BEGIN:VCALENDAR
VERSION:2.0
PRODID:-//Cosmic Comedy Berlin - International Comedy Club - ECPv6.15.20//NONSGML v1.0//EN
CALSCALE:GREGORIAN
METHOD:PUBLISH
X-ORIGINAL-URL:https://comedyclubberlin.com
X-WR-CALDESC:Events for Cosmic Comedy Berlin - International Comedy Club
REFRESH-INTERVAL;VALUE=DURATION:PT1H
X-Robots-Tag:noindex
X-PUBLISHED-TTL:PT1H
BEGIN:VTIMEZONE
TZID:Europe/Berlin
BEGIN:DAYLIGHT
TZOFFSETFROM:+0100
TZOFFSETTO:+0200
TZNAME:CEST
DTSTART:20250330T010000
END:DAYLIGHT
BEGIN:STANDARD
TZOFFSETFROM:+0200
TZOFFSETTO:+0100
TZNAME:CET
DTSTART:20251026T010000
END:STANDARD
BEGIN:DAYLIGHT
TZOFFSETFROM:+0100
TZOFFSETTO:+0200
TZNAME:CEST
DTSTART:20260329T010000
END:DAYLIGHT
BEGIN:STANDARD
TZOFFSETFROM:+0200
TZOFFSETTO:+0100
TZNAME:CET
DTSTART:20261025T010000
END:STANDARD
BEGIN:DAYLIGHT
TZOFFSETFROM:+0100
TZOFFSETTO:+0200
TZNAME:CEST
DTSTART:20270328T010000
END:DAYLIGHT
BEGIN:STANDARD
TZOFFSETFROM:+0200
TZOFFSETTO:+0100
TZNAME:CET
DTSTART:20271031T010000
END:STANDARD
END:VTIMEZONE
BEGIN:VEVENT
DTSTART;TZID=Europe/Berlin:20260505T200000
DTEND;TZID=Europe/Berlin:20260505T223000
DTSTAMP:20260426T020200
CREATED:20260404T102441Z
LAST-MODIFIED:20260404T102441Z
UID:64283-1778011200-1778020200@comedyclubberlin.com
SUMMARY:Utku Ergin - Ya Şimdi Ya Hiç
DESCRIPTION:Utku Ergin\, seyircisinin üzerinde test ederek şekillendirdiği yeni stand-up gösterisi “Ya Şimdi Ya Hiç” ile karşınızda! \nİlişki hayatı ülkenin karmaşık gündemiyle neredeyse paralel ilerleyen Utku\, 35 yaşın getirdiği içsel sorgulamalar\, döngülerden çıkışlar\, aileyle kurulan tuhaf dengeler\, Türkiye’de mutluluğun yeni parametreleri ve Tutkum Boğuşmak serüveninin bilinmeyen yüzünü sahneye taşıyor. \nEtkinlik Kuralları: \n\nGösteri başladıktan sonra giriş yapılmamaktadır. Bu sebeple gösteri alanına erken gelmenizi rica ederiz.\n18 yaşından küçükler şova giriş yapamaz.\nGösteri sırasında sigara içmek yasaktır.\nGösteri alanına dışarıdan yiyecek ve içecek alınmayacaktır.\nSistem koltuk seçtirmiyorsa\, gösteri alanımızda numarasız oturma düzeni mevcuttur. Seçtiriyorsa bilette yazan koltuklara oturmanız gerekmektedir.\nSatın alınan biletlerde iptal\, iade ve değişiklik yapılmamaktadır.\nBilet iade ve değişiklik hakkı organizatöre aittir.\nOrganizasyon firması\, diğer misafirleri rahatsız eden/edecek nitelikte\, uygun görmediği kişileri etkinlik için bilet bedelini iade etmek koşuluyla\, etkinlik mekanına kişiyi almama hakkına sahiptir.\nŞovu sabote etmeniz durumunda dışarı çıkmanız istenecektir.\nEtkinlik süresince kayıt yapılmasına izin verilmeyecektir. Çekim yapmanız durumunda maalesef çektiğiniz görüntüleri silmeniz talep edilecektir.\nTuzBiber gösterilerde ses ve görüntü kaydı yapabilir ve kayıtları kullanma hakkına sahiptir.\nOrganizasyon şirketinin programda ve bilet fiyatlarında değişiklik yapma hakkı saklıdır.
URL:https://comedyclubberlin.com/event/utku-ergin-ya-simdi-ya-hic/
CATEGORIES:Comedy Special
ATTACH;FMTTYPE=image/jpeg:https://comedyclubberlin.com/wp-content/uploads/2026/04/MV5BNGJjODgzYjEtODdkNi00ZTE1LTllOTUtYzZmMmQzZDA5ZWY4XkEyXkFqcGc@._V1_.jpg
END:VEVENT
END:VCALENDAR