BEGIN:VCALENDAR
VERSION:2.0
PRODID:-//Cosmic Comedy Berlin - International Comedy Club - ECPv6.15.20//NONSGML v1.0//EN
CALSCALE:GREGORIAN
METHOD:PUBLISH
X-ORIGINAL-URL:https://comedyclubberlin.com
X-WR-CALDESC:Events for Cosmic Comedy Berlin - International Comedy Club
REFRESH-INTERVAL;VALUE=DURATION:PT1H
X-Robots-Tag:noindex
X-PUBLISHED-TTL:PT1H
BEGIN:VTIMEZONE
TZID:Europe/Berlin
BEGIN:DAYLIGHT
TZOFFSETFROM:+0100
TZOFFSETTO:+0200
TZNAME:CEST
DTSTART:20250330T010000
END:DAYLIGHT
BEGIN:STANDARD
TZOFFSETFROM:+0200
TZOFFSETTO:+0100
TZNAME:CET
DTSTART:20251026T010000
END:STANDARD
BEGIN:DAYLIGHT
TZOFFSETFROM:+0100
TZOFFSETTO:+0200
TZNAME:CEST
DTSTART:20260329T010000
END:DAYLIGHT
BEGIN:STANDARD
TZOFFSETFROM:+0200
TZOFFSETTO:+0100
TZNAME:CET
DTSTART:20261025T010000
END:STANDARD
BEGIN:DAYLIGHT
TZOFFSETFROM:+0100
TZOFFSETTO:+0200
TZNAME:CEST
DTSTART:20270328T010000
END:DAYLIGHT
BEGIN:STANDARD
TZOFFSETFROM:+0200
TZOFFSETTO:+0100
TZNAME:CET
DTSTART:20271031T010000
END:STANDARD
END:VTIMEZONE
BEGIN:VEVENT
DTSTART;TZID=Europe/Berlin:20260628T203000
DTEND;TZID=Europe/Berlin:20260628T230000
DTSTAMP:20260426T034731
CREATED:20260216T104428Z
LAST-MODIFIED:20260216T104428Z
UID:63644-1782678600-1782687600@comedyclubberlin.com
SUMMARY:Chiqui Aguayo - Gira Europa
DESCRIPTION:“CHILEY”\, un monólogo que mezcla humor\, catarsis y realidad chilena sin filtro. \nCon su estilo directo\, irónico y profundamente humano\, Chiqui nos invita a mirarnos como país: desde las filas eternas\, las mamás del chat\, las terapias\, los TikTok motivacionales y los absurdos de una adultez donde todos tratamos de sobrevivir… con humor y vino. \nEn “CHILEY”\, no hay temas prohibidos: maternidad\, política\, redes sociales\, culpa\, amor y autoayuda se mezclan en una hora y cuarto de risa\, reflexión y desahogo colectivo. \nPorque ser chileno hoy es un acto de resistencia… y Chiqui te lo explica entre carcajadas. \nPrepárate para reírte de todo lo que nos duele\, de todo lo que fingimos entender\, y de todo lo que somos. \nTickets: https://www.enterticket.es/eventos/chiqui-aguayo-chiley-berlin-611956Un show honesto\, incorrecto y profundamente liberador. \nEspectáculo recomendado para mayores de 16 años.
URL:https://comedyclubberlin.com/event/chiqui-aguayo-gira-europa/
LOCATION:Cosmic Comedy Berlin – Comedyclub\, Schönhauser Allee 184\, Berlin\, 10119\, Germany
ATTACH;FMTTYPE=image/jpeg:https://comedyclubberlin.com/wp-content/uploads/2026/02/file_20170215112153.jpg
END:VEVENT
BEGIN:VEVENT
DTSTART;TZID=Europe/Berlin:20261125T200000
DTEND;TZID=Europe/Berlin:20261125T200000
DTSTAMP:20260426T034731
CREATED:20260319T163825Z
LAST-MODIFIED:20260319T164647Z
UID:64084-1795636800-1795636800@comedyclubberlin.com
SUMMARY:Tereza Hossa - Live in Berlin
DESCRIPTION:Tereza Hossa ist Kabarettistin\, Tierärztin und gottverdammte Lebefrau. 1995 geboren in Australien\, wuchs sie dann dennoch in Tirol auf und ist seit 2013 wohnhaft in Wien. Seit 2014\, begonnen als Slam Poetin\, tourt sie bereits durch den gesamten deutschsprachigen Raum. Mit ihrem ersten Kabarett Solo Programm Abenteuer ist sie seit 2019 auf der Bühne zu sehen. \nWährend Hossa wöchentlich eine satirische Videokolumne bei derstandard.at betrieb\, schreibt sie u.a. für die Tagespresse und Twitter. Als Podcasterin ist sie Teil des Sciene&Fun Podcast Axolotl & Co zusammen mit ihrem Bruder und zelebriert die Donnerstage als erfrischendsten Tag der Woche zusammen mit Autoren-Kollegin Katharina Reckers in ihrem Podcast Duschbier. Durch ihr Mitwirken hinter und ihrem Auftreten vor der Kamera als Teil der Caroline Kebekus Show ist sie durch das deutsche Fernsehen und Internet durchgestartet. Als ausgebildete Tierärztin wird in ihrer künstlerischen Arbeit nicht nur das Schlachten von Tieren\, sondern auch das Schlachten des Patriarchats thematisiert. Ob tiefschwarze Satire oder beiläufiges Rektalisieren der eigenen Gefühle: Tereza Hossa ist unberechenbar. Mit ihr fährt man Tagada. \nTereza ist seit 2024 gemeinsam mit Robin König Host des ARD-Podcasts “Weird Animals” \n© Foto: Jennifer Fasching \n  \nTickets: Tickets for TEREZA HOSSA @ Cosmic Comedy Club | Berlin | Wed\, Nov 25\, | from €23.10
URL:https://comedyclubberlin.com/event/tereza-hossa-live-in-berlin/
LOCATION:Cosmic Comedy Berlin – Comedyclub\, Schönhauser Allee 184\, Berlin\, 10119\, Germany
CATEGORIES:Comedy Special
ATTACH;FMTTYPE=image/jpeg:https://comedyclubberlin.com/wp-content/uploads/2026/03/image-1-scaled.jpeg
END:VEVENT
END:VCALENDAR