BEGIN:VCALENDAR
VERSION:2.0
PRODID:-//Cosmic Comedy Berlin - International Comedy Club - ECPv6.15.20//NONSGML v1.0//EN
CALSCALE:GREGORIAN
METHOD:PUBLISH
X-WR-CALNAME:Cosmic Comedy Berlin - International Comedy Club
X-ORIGINAL-URL:https://comedyclubberlin.com
X-WR-CALDESC:Events for Cosmic Comedy Berlin - International Comedy Club
REFRESH-INTERVAL;VALUE=DURATION:PT1H
X-Robots-Tag:noindex
X-PUBLISHED-TTL:PT1H
BEGIN:VTIMEZONE
TZID:Europe/Berlin
BEGIN:DAYLIGHT
TZOFFSETFROM:+0100
TZOFFSETTO:+0200
TZNAME:CEST
DTSTART:20250330T010000
END:DAYLIGHT
BEGIN:STANDARD
TZOFFSETFROM:+0200
TZOFFSETTO:+0100
TZNAME:CET
DTSTART:20251026T010000
END:STANDARD
BEGIN:DAYLIGHT
TZOFFSETFROM:+0100
TZOFFSETTO:+0200
TZNAME:CEST
DTSTART:20260329T010000
END:DAYLIGHT
BEGIN:STANDARD
TZOFFSETFROM:+0200
TZOFFSETTO:+0100
TZNAME:CET
DTSTART:20261025T010000
END:STANDARD
BEGIN:DAYLIGHT
TZOFFSETFROM:+0100
TZOFFSETTO:+0200
TZNAME:CEST
DTSTART:20270328T010000
END:DAYLIGHT
BEGIN:STANDARD
TZOFFSETFROM:+0200
TZOFFSETTO:+0100
TZNAME:CET
DTSTART:20271031T010000
END:STANDARD
END:VTIMEZONE
BEGIN:VEVENT
DTSTART;TZID=Europe/Berlin:20260430T190000
DTEND;TZID=Europe/Berlin:20260430T230000
DTSTAMP:20260426T014753
CREATED:20260226T112710Z
LAST-MODIFIED:20260425T230755Z
UID:63931-1777575600-1777590000@comedyclubberlin.com
SUMMARY:Comedy\, Pizza and Shots - OPEN-MIC THURSDAY
DESCRIPTION:Find one of the longest running English speaking comedy clubs in Berlin Prenzlauer Berg! Indulge in a fantastic evening with stand-up comedy\, pizza and shots! \nIt’s Open-Mic night\, so professional and new comics give it ago to make you laugh. \nDoors open at 7 PM. You will be greeted by one of our fabulous door people who give you a little introduction to the club. Get your free shot at the bar. There is always a 2 for 1 drink special until 8 PM\, so come early and mingle with like-minded people. At around 8.15 PM vegetarian and vegan pizza from one of Berlins most popular Italian restaurants will be served at your seat. The show starts at 9 PM. Cosmic Comedy Berlin has an intermission and usually ends around 11 PM. \nHosted by: Dharmander Singh (GBR) \n★★★★★ THE ACTS ★★★★★ \nTo be announced \n★★★★★ OPENING TIMES ★★★★★ \nDoors: 19:00\nPizza: 20:15\nShow: 21:00\n2for1 on selected drinks from 19:00 until 20:00
URL:https://comedyclubberlin.com/event/comedy-pizza-and-shots-open-mic-thursday-12/
LOCATION:Cosmic Comedy Berlin – Comedyclub\, Schönhauser Allee 184\, Berlin\, 10119\, Germany
CATEGORIES:English Language,Open Mic
ATTACH;FMTTYPE=image/jpeg:https://comedyclubberlin.com/wp-content/uploads/2026/02/Flyer-Open-Mic-April-30th-26.jpg
ORGANIZER;CN="Cosmic Comedy Berlin":MAILTO:englishcomedyberlin@gmail.com
END:VEVENT
BEGIN:VEVENT
DTSTART;TZID=Europe/Berlin:20260507T190000
DTEND;TZID=Europe/Berlin:20260507T230000
DTSTAMP:20260426T014753
CREATED:20260226T112750Z
LAST-MODIFIED:20260226T135613Z
UID:63933-1778180400-1778194800@comedyclubberlin.com
SUMMARY:Comedy\, Pizza and Shots - OPEN-MIC THURSDAY
DESCRIPTION:Find one of the longest running English speaking comedy clubs in Berlin Prenzlauer Berg! Indulge in a fantastic evening with stand-up comedy\, pizza and shots! \nIt’s Open-Mic night\, so professional and new comics give it ago to make you laugh. \nDoors open at 7 PM. You will be greeted by one of our fabulous door people who give you a little introduction to the club. Get your free shot at the bar. There is always a 2 for 1 drink special until 8 PM\, so come early and mingle with like-minded people. At around 8.15 PM vegetarian and vegan pizza from one of Berlins most popular Italian restaurants will be served at your seat. The show starts at 9 PM. Cosmic Comedy Berlin has an intermission and usually ends around 11 PM. \nHosted by: Dharmander Singh (GBR) \n★★★★★ THE ACTS ★★★★★ \nTo be announced \n★★★★★ OPENING TIMES ★★★★★ \nDoors: 19:00\nPizza: 20:15\nShow: 21:00\n2for1 on selected drinks from 19:00 until 20:00
URL:https://comedyclubberlin.com/event/comedy-pizza-and-shots-open-mic-thursday-13/
LOCATION:Cosmic Comedy Berlin – Comedyclub\, Schönhauser Allee 184\, Berlin\, 10119\, Germany
CATEGORIES:English Language,Open Mic
ATTACH;FMTTYPE=image/jpeg:https://comedyclubberlin.com/wp-content/uploads/2024/11/open-mic-banner.jpg
ORGANIZER;CN="Cosmic Comedy Berlin":MAILTO:englishcomedyberlin@gmail.com
END:VEVENT
BEGIN:VEVENT
DTSTART;TZID=Europe/Berlin:20260514T190000
DTEND;TZID=Europe/Berlin:20260514T230000
DTSTAMP:20260426T014753
CREATED:20260226T112814Z
LAST-MODIFIED:20260226T140030Z
UID:63935-1778785200-1778799600@comedyclubberlin.com
SUMMARY:Comedy\, Pizza and Shots - OPEN-MIC THURSDAY
DESCRIPTION:Find one of the longest running English speaking comedy clubs in Berlin Prenzlauer Berg! Indulge in a fantastic evening with stand-up comedy\, pizza and shots! \nIt’s Open-Mic night\, so professional and new comics give it ago to make you laugh. \nDoors open at 7 PM. You will be greeted by one of our fabulous door people who give you a little introduction to the club. Get your free shot at the bar. There is always a 2 for 1 drink special until 8 PM\, so come early and mingle with like-minded people. At around 8.15 PM vegetarian and vegan pizza from one of Berlins most popular Italian restaurants will be served at your seat. The show starts at 9 PM. Cosmic Comedy Berlin has an intermission and usually ends around 11 PM. \nHosted by: Dharmander Singh (GBR) \n★★★★★ THE ACTS ★★★★★ \nTo be announced \n★★★★★ OPENING TIMES ★★★★★ \nDoors: 19:00\nPizza: 20:15\nShow: 21:00\n2for1 on selected drinks from 19:00 until 20:00
URL:https://comedyclubberlin.com/event/comedy-pizza-and-shots-open-mic-thursday-14/
LOCATION:Cosmic Comedy Berlin – Comedyclub\, Schönhauser Allee 184\, Berlin\, 10119\, Germany
CATEGORIES:English Language,Open Mic
ATTACH;FMTTYPE=image/jpeg:https://comedyclubberlin.com/wp-content/uploads/2024/11/open-mic-banner.jpg
ORGANIZER;CN="Cosmic Comedy Berlin":MAILTO:englishcomedyberlin@gmail.com
END:VEVENT
BEGIN:VEVENT
DTSTART;TZID=Europe/Berlin:20260521T190000
DTEND;TZID=Europe/Berlin:20260521T230000
DTSTAMP:20260426T014753
CREATED:20260226T112930Z
LAST-MODIFIED:20260226T140457Z
UID:63939-1779390000-1779404400@comedyclubberlin.com
SUMMARY:Comedy\, Pizza and Shots - OPEN-MIC THURSDAY
DESCRIPTION:Find one of the longest running English speaking comedy clubs in Berlin Prenzlauer Berg! Indulge in a fantastic evening with stand-up comedy\, pizza and shots! \nIt’s Open-Mic night\, so professional and new comics give it ago to make you laugh. \nDoors open at 7 PM. You will be greeted by one of our fabulous door people who give you a little introduction to the club. Get your free shot at the bar. There is always a 2 for 1 drink special until 8 PM\, so come early and mingle with like-minded people. At around 8.15 PM vegetarian and vegan pizza from one of Berlins most popular Italian restaurants will be served at your seat. The show starts at 9 PM. Cosmic Comedy Berlin has an intermission and usually ends around 11 PM. \nHosted by: Dharmander Singh (GBR) \n★★★★★ THE ACTS ★★★★★ \nTo be announced \n★★★★★ OPENING TIMES ★★★★★ \nDoors: 19:00\nPizza: 20:15\nShow: 21:00\n2for1 on selected drinks from 19:00 until 20:00
URL:https://comedyclubberlin.com/event/comedy-pizza-and-shots-open-mic-thursday-16/
LOCATION:Cosmic Comedy Berlin – Comedyclub\, Schönhauser Allee 184\, Berlin\, 10119\, Germany
CATEGORIES:English Language,Open Mic
ATTACH;FMTTYPE=image/jpeg:https://comedyclubberlin.com/wp-content/uploads/2024/11/open-mic-banner.jpg
ORGANIZER;CN="Cosmic Comedy Berlin":MAILTO:englishcomedyberlin@gmail.com
END:VEVENT
BEGIN:VEVENT
DTSTART;TZID=Europe/Berlin:20260604T190000
DTEND;TZID=Europe/Berlin:20260604T230000
DTSTAMP:20260426T014753
CREATED:20260226T113033Z
LAST-MODIFIED:20260226T141619Z
UID:63941-1780599600-1780614000@comedyclubberlin.com
SUMMARY:Comedy\, Pizza and Shots - OPEN-MIC THURSDAY
DESCRIPTION:Find one of the longest running English speaking comedy clubs in Berlin Prenzlauer Berg! Indulge in a fantastic evening with stand-up comedy\, pizza and shots! \nIt’s Open-Mic night\, so professional and new comics give it ago to make you laugh. \nDoors open at 7 PM. You will be greeted by one of our fabulous door people who give you a little introduction to the club. Get your free shot at the bar. There is always a 2 for 1 drink special until 8 PM\, so come early and mingle with like-minded people. At around 8.15 PM vegetarian and vegan pizza from one of Berlins most popular Italian restaurants will be served at your seat. The show starts at 9 PM. Cosmic Comedy Berlin has an intermission and usually ends around 11 PM. \nHosted by: Dharmander Singh (GBR) \n★★★★★ THE ACTS ★★★★★ \nTo be announced \n★★★★★ OPENING TIMES ★★★★★ \nDoors: 19:00\nPizza: 20:15\nShow: 21:00\n2for1 on selected drinks from 19:00 until 20:00
URL:https://comedyclubberlin.com/event/comedy-pizza-and-shots-open-mic-thursday-17/
LOCATION:Cosmic Comedy Berlin – Comedyclub\, Schönhauser Allee 184\, Berlin\, 10119\, Germany
CATEGORIES:English Language,Open Mic
ATTACH;FMTTYPE=image/jpeg:https://comedyclubberlin.com/wp-content/uploads/2024/11/open-mic-banner.jpg
ORGANIZER;CN="Cosmic Comedy Berlin":MAILTO:englishcomedyberlin@gmail.com
END:VEVENT
END:VCALENDAR