BEGIN:VCALENDAR
VERSION:2.0
PRODID:-//Cosmic Comedy Berlin - International Comedy Club - ECPv6.15.20//NONSGML v1.0//EN
CALSCALE:GREGORIAN
METHOD:PUBLISH
X-WR-CALNAME:Cosmic Comedy Berlin - International Comedy Club
X-ORIGINAL-URL:https://comedyclubberlin.com
X-WR-CALDESC:Events for Cosmic Comedy Berlin - International Comedy Club
REFRESH-INTERVAL;VALUE=DURATION:PT1H
X-Robots-Tag:noindex
X-PUBLISHED-TTL:PT1H
BEGIN:VTIMEZONE
TZID:Europe/Berlin
BEGIN:DAYLIGHT
TZOFFSETFROM:+0100
TZOFFSETTO:+0200
TZNAME:CEST
DTSTART:20250330T010000
END:DAYLIGHT
BEGIN:STANDARD
TZOFFSETFROM:+0200
TZOFFSETTO:+0100
TZNAME:CET
DTSTART:20251026T010000
END:STANDARD
BEGIN:DAYLIGHT
TZOFFSETFROM:+0100
TZOFFSETTO:+0200
TZNAME:CEST
DTSTART:20260329T010000
END:DAYLIGHT
BEGIN:STANDARD
TZOFFSETFROM:+0200
TZOFFSETTO:+0100
TZNAME:CET
DTSTART:20261025T010000
END:STANDARD
BEGIN:DAYLIGHT
TZOFFSETFROM:+0100
TZOFFSETTO:+0200
TZNAME:CEST
DTSTART:20270328T010000
END:DAYLIGHT
BEGIN:STANDARD
TZOFFSETFROM:+0200
TZOFFSETTO:+0100
TZNAME:CET
DTSTART:20271031T010000
END:STANDARD
END:VTIMEZONE
BEGIN:VEVENT
DTSTART;TZID=Europe/Berlin:20260519T193000
DTEND;TZID=Europe/Berlin:20260519T223000
DTSTAMP:20260426T021410
CREATED:20251212T095833Z
LAST-MODIFIED:20251212T095833Z
UID:62045-1779219000-1779229800@comedyclubberlin.com
SUMMARY:Emily Catalano - Quiet Is The New Loud
DESCRIPTION:Emily Catalano is a Los Angeles-based comedian who made her late night stand-up debut on CONAN and has gained recognition through viral clips on social media. Known for her slow pace and dry humor\, Emily’s talent for crafting jokes out of everyday situations has received attention from Time Out LA\, who named her a “Comic to Watch.” Vulture praised Emily’s punchlines\, saying\, “They hit especially hard because they surprise you twice.” \nTickets: Tickets für Emily Catalano @ Cosmic Comedy Club Berlin | Di\, 19. Mai 2026 | ab 33\,30 €
URL:https://comedyclubberlin.com/event/emily-catalano-quiet-is-the-new-loud/
LOCATION:Cosmic Comedy Berlin – Comedyclub\, Schönhauser Allee 184\, Berlin\, 10119\, Germany
CATEGORIES:Comedy Special
ATTACH;FMTTYPE=image/png:https://comedyclubberlin.com/wp-content/uploads/2025/12/Original-1.png
END:VEVENT
END:VCALENDAR