BEGIN:VCALENDAR
VERSION:2.0
PRODID:-//Cosmic Comedy Berlin - International Comedy Club - ECPv6.15.20//NONSGML v1.0//EN
CALSCALE:GREGORIAN
METHOD:PUBLISH
X-ORIGINAL-URL:https://comedyclubberlin.com
X-WR-CALDESC:Events for Cosmic Comedy Berlin - International Comedy Club
REFRESH-INTERVAL;VALUE=DURATION:PT1H
X-Robots-Tag:noindex
X-PUBLISHED-TTL:PT1H
BEGIN:VTIMEZONE
TZID:Europe/Berlin
BEGIN:DAYLIGHT
TZOFFSETFROM:+0100
TZOFFSETTO:+0200
TZNAME:CEST
DTSTART:20250330T010000
END:DAYLIGHT
BEGIN:STANDARD
TZOFFSETFROM:+0200
TZOFFSETTO:+0100
TZNAME:CET
DTSTART:20251026T010000
END:STANDARD
BEGIN:DAYLIGHT
TZOFFSETFROM:+0100
TZOFFSETTO:+0200
TZNAME:CEST
DTSTART:20260329T010000
END:DAYLIGHT
BEGIN:STANDARD
TZOFFSETFROM:+0200
TZOFFSETTO:+0100
TZNAME:CET
DTSTART:20261025T010000
END:STANDARD
BEGIN:DAYLIGHT
TZOFFSETFROM:+0100
TZOFFSETTO:+0200
TZNAME:CEST
DTSTART:20270328T010000
END:DAYLIGHT
BEGIN:STANDARD
TZOFFSETFROM:+0200
TZOFFSETTO:+0100
TZNAME:CET
DTSTART:20271031T010000
END:STANDARD
END:VTIMEZONE
BEGIN:VEVENT
DTSTART;TZID=Europe/Berlin:20260430T190000
DTEND;TZID=Europe/Berlin:20260430T230000
DTSTAMP:20260426T032513
CREATED:20260226T112710Z
LAST-MODIFIED:20260425T230755Z
UID:63931-1777575600-1777590000@comedyclubberlin.com
SUMMARY:Comedy\, Pizza and Shots - OPEN-MIC THURSDAY
DESCRIPTION:Find one of the longest running English speaking comedy clubs in Berlin Prenzlauer Berg! Indulge in a fantastic evening with stand-up comedy\, pizza and shots! \nIt’s Open-Mic night\, so professional and new comics give it ago to make you laugh. \nDoors open at 7 PM. You will be greeted by one of our fabulous door people who give you a little introduction to the club. Get your free shot at the bar. There is always a 2 for 1 drink special until 8 PM\, so come early and mingle with like-minded people. At around 8.15 PM vegetarian and vegan pizza from one of Berlins most popular Italian restaurants will be served at your seat. The show starts at 9 PM. Cosmic Comedy Berlin has an intermission and usually ends around 11 PM. \nHosted by: Dharmander Singh (GBR) \n★★★★★ THE ACTS ★★★★★ \nTo be announced \n★★★★★ OPENING TIMES ★★★★★ \nDoors: 19:00\nPizza: 20:15\nShow: 21:00\n2for1 on selected drinks from 19:00 until 20:00
URL:https://comedyclubberlin.com/event/comedy-pizza-and-shots-open-mic-thursday-12/
LOCATION:Cosmic Comedy Berlin – Comedyclub\, Schönhauser Allee 184\, Berlin\, 10119\, Germany
CATEGORIES:English Language,Open Mic
ATTACH;FMTTYPE=image/jpeg:https://comedyclubberlin.com/wp-content/uploads/2026/02/Flyer-Open-Mic-April-30th-26.jpg
ORGANIZER;CN="Cosmic Comedy Berlin":MAILTO:englishcomedyberlin@gmail.com
END:VEVENT
BEGIN:VEVENT
DTSTART;TZID=Europe/Berlin:20260501T190000
DTEND;TZID=Europe/Berlin:20260501T230000
DTSTAMP:20260426T032513
CREATED:20260226T111850Z
LAST-MODIFIED:20260410T091325Z
UID:63911-1777662000-1777676400@comedyclubberlin.com
SUMMARY:Comedy\, Pizza and Shots – SHOWCASE FRIDAY
DESCRIPTION:Find one of the longest running English speaking comedy clubs in Berlin – Prenzlauer Berg. Indulge in a fantastic evening with stand-up comedy\, pizza and shots! \nComedians perform their tried and tested sets to make you laugh at the Showcase events every Friday and Saturday. \n\nDoors open at 7 PM. You will be greeted by one of our fabulous door people who give you a little introduction to the club. Get your free shot at the bar. There is always a 2 for 1 drink special until 8 PM\, so come early and mingle with like-minded people. At around 8.15 PM vegetarian and vegan pizza from one of Berlins most popular Italian restaurants will be served at your seat. The show starts at 9 PM. Cosmic Comedy Berlin has an intermission and usually ends around 11 PM. \nHost: Dharmander Singh \n\n★★★★★ THE ACTS ★★★★★ \nAnja Woot (SLO)\nTom Strissel (USA)\nZen Jiro (JPN)\nBruno Mazzini (PER) \n★★★★★ OPENING TIMES ★★★★★ \nDoors: 19:00Pizza: 20:15Show: 21:002for1 drinks selection: between 19:00 and 20:00
URL:https://comedyclubberlin.com/event/comedy-pizza-and-shots-showcase-friday-9/
LOCATION:Cosmic Comedy Berlin – Comedyclub\, Schönhauser Allee 184\, Berlin\, 10119\, Germany
CATEGORIES:English Language,Showcase
ATTACH;FMTTYPE=image/jpeg:https://comedyclubberlin.com/wp-content/uploads/2026/02/Showcase-Flyer-May-1st-26.jpg
ORGANIZER;CN="Cosmic Comedy Berlin":MAILTO:englishcomedyberlin@gmail.com
END:VEVENT
BEGIN:VEVENT
DTSTART;TZID=Europe/Berlin:20260502T190000
DTEND;TZID=Europe/Berlin:20260502T230000
DTSTAMP:20260426T032513
CREATED:20260226T110718Z
LAST-MODIFIED:20260410T091745Z
UID:63892-1777748400-1777762800@comedyclubberlin.com
SUMMARY:Comedy\, Pizza and Shots – SHOWCASE SATURDAY
DESCRIPTION:Find one of the longest running English speaking comedy clubs in Berlin – Prenzlauer Berg. Indulge in a fantastic evening with stand-up comedy\, pizza and shots! \nComedians perform their tried and tested sets to make you laugh at the Showcase events every Friday and Saturday. \n\nDoors open at 7 PM. You will be greeted by one of our fabulous door people who give you a little introduction to the club. Get your free shot at the bar. There is always a 2 for 1 drink special until 8 PM\, so come early and mingle with like-minded people. At around 8.15 PM vegetarian and vegan pizza from one of Berlins most popular Italian restaurants will be served at your seat. The show starts at 9 PM. Cosmic Comedy Berlin has an intermission and usually ends around 11 PM. \nHost: Dharmander Singh \n\n★★★★★ THE ACTS ★★★★★ \nDavid Adams (AUS)\nCosmo (GER)\nZen Jiro (JPN)\nDinara Kerey (KAZ) \n★★★★★ OPENING TIMES ★★★★★ \nDoors: 19:00Pizza: 20:15Show: 21:002for1 drinks selection: between 19:00 and 20:00
URL:https://comedyclubberlin.com/event/comedy-pizza-and-shots-showcase-saturday-9/
LOCATION:Cosmic Comedy Berlin – Comedyclub\, Schönhauser Allee 184\, Berlin\, 10119\, Germany
CATEGORIES:English Language,Showcase
ATTACH;FMTTYPE=image/jpeg:https://comedyclubberlin.com/wp-content/uploads/2026/02/Showcase-Flyer-May-2nd-26.jpg
ORGANIZER;CN="Cosmic Comedy Berlin":MAILTO:englishcomedyberlin@gmail.com
END:VEVENT
BEGIN:VEVENT
DTSTART;TZID=Europe/Berlin:20260507T190000
DTEND;TZID=Europe/Berlin:20260507T230000
DTSTAMP:20260426T032513
CREATED:20260226T112750Z
LAST-MODIFIED:20260226T135613Z
UID:63933-1778180400-1778194800@comedyclubberlin.com
SUMMARY:Comedy\, Pizza and Shots - OPEN-MIC THURSDAY
DESCRIPTION:Find one of the longest running English speaking comedy clubs in Berlin Prenzlauer Berg! Indulge in a fantastic evening with stand-up comedy\, pizza and shots! \nIt’s Open-Mic night\, so professional and new comics give it ago to make you laugh. \nDoors open at 7 PM. You will be greeted by one of our fabulous door people who give you a little introduction to the club. Get your free shot at the bar. There is always a 2 for 1 drink special until 8 PM\, so come early and mingle with like-minded people. At around 8.15 PM vegetarian and vegan pizza from one of Berlins most popular Italian restaurants will be served at your seat. The show starts at 9 PM. Cosmic Comedy Berlin has an intermission and usually ends around 11 PM. \nHosted by: Dharmander Singh (GBR) \n★★★★★ THE ACTS ★★★★★ \nTo be announced \n★★★★★ OPENING TIMES ★★★★★ \nDoors: 19:00\nPizza: 20:15\nShow: 21:00\n2for1 on selected drinks from 19:00 until 20:00
URL:https://comedyclubberlin.com/event/comedy-pizza-and-shots-open-mic-thursday-13/
LOCATION:Cosmic Comedy Berlin – Comedyclub\, Schönhauser Allee 184\, Berlin\, 10119\, Germany
CATEGORIES:English Language,Open Mic
ATTACH;FMTTYPE=image/jpeg:https://comedyclubberlin.com/wp-content/uploads/2024/11/open-mic-banner.jpg
ORGANIZER;CN="Cosmic Comedy Berlin":MAILTO:englishcomedyberlin@gmail.com
END:VEVENT
BEGIN:VEVENT
DTSTART;TZID=Europe/Berlin:20260508T190000
DTEND;TZID=Europe/Berlin:20260508T230000
DTSTAMP:20260426T032513
CREATED:20260226T111919Z
LAST-MODIFIED:20260410T092201Z
UID:63913-1778266800-1778281200@comedyclubberlin.com
SUMMARY:Comedy\, Pizza and Shots – SHOWCASE FRIDAY
DESCRIPTION:Find one of the longest running English speaking comedy clubs in Berlin – Prenzlauer Berg. Indulge in a fantastic evening with stand-up comedy\, pizza and shots! \nComedians perform their tried and tested sets to make you laugh at the Showcase events every Friday and Saturday. \n\nDoors open at 7 PM. You will be greeted by one of our fabulous door people who give you a little introduction to the club. Get your free shot at the bar. There is always a 2 for 1 drink special until 8 PM\, so come early and mingle with like-minded people. At around 8.15 PM vegetarian and vegan pizza from one of Berlins most popular Italian restaurants will be served at your seat. The show starts at 9 PM. Cosmic Comedy Berlin has an intermission and usually ends around 11 PM. \nHost: Dharmander Singh \n\n★★★★★ THE ACTS ★★★★★ \nWilly (NZL)\nRoc Roc It (???)\nMaya Upchurch (POL)\nBrendan Common (GBR) \n★★★★★ OPENING TIMES ★★★★★ \nDoors: 19:00Pizza: 20:15Show: 21:002for1 drinks selection: between 19:00 and 20:00
URL:https://comedyclubberlin.com/event/comedy-pizza-and-shots-showcase-friday-10/
LOCATION:Cosmic Comedy Berlin – Comedyclub\, Schönhauser Allee 184\, Berlin\, 10119\, Germany
CATEGORIES:English Language,Showcase
ATTACH;FMTTYPE=image/jpeg:https://comedyclubberlin.com/wp-content/uploads/2026/02/Showcase-Flyer-May-8th-26.jpg
ORGANIZER;CN="Cosmic Comedy Berlin":MAILTO:englishcomedyberlin@gmail.com
END:VEVENT
BEGIN:VEVENT
DTSTART;TZID=Europe/Berlin:20260509T190000
DTEND;TZID=Europe/Berlin:20260509T230000
DTSTAMP:20260426T032513
CREATED:20260226T110746Z
LAST-MODIFIED:20260410T092532Z
UID:63894-1778353200-1778367600@comedyclubberlin.com
SUMMARY:Comedy\, Pizza and Shots – SHOWCASE SATURDAY
DESCRIPTION:Find one of the longest running English speaking comedy clubs in Berlin – Prenzlauer Berg. Indulge in a fantastic evening with stand-up comedy\, pizza and shots! \nComedians perform their tried and tested sets to make you laugh at the Showcase events every Friday and Saturday. \n\nDoors open at 7 PM. You will be greeted by one of our fabulous door people who give you a little introduction to the club. Get your free shot at the bar. There is always a 2 for 1 drink special until 8 PM\, so come early and mingle with like-minded people. At around 8.15 PM vegetarian and vegan pizza from one of Berlins most popular Italian restaurants will be served at your seat. The show starts at 9 PM. Cosmic Comedy Berlin has an intermission and usually ends around 11 PM. \nHost: Dharmander Singh \n\n★★★★★ THE ACTS ★★★★★ \nTommy Ferrari (ITA)\nDavid Adams (AUS)\nBrendan Common (GBR)\nStephanie DePrez (USA) \n★★★★★ OPENING TIMES ★★★★★ \nDoors: 19:00Pizza: 20:15Show: 21:002for1 drinks selection: between 19:00 and 20:00
URL:https://comedyclubberlin.com/event/comedy-pizza-and-shots-showcase-saturday-10/
LOCATION:Cosmic Comedy Berlin – Comedyclub\, Schönhauser Allee 184\, Berlin\, 10119\, Germany
CATEGORIES:English Language,Showcase
ATTACH;FMTTYPE=image/jpeg:https://comedyclubberlin.com/wp-content/uploads/2026/02/Showcase-Flyer-May-9th-26.jpg
ORGANIZER;CN="Cosmic Comedy Berlin":MAILTO:englishcomedyberlin@gmail.com
END:VEVENT
BEGIN:VEVENT
DTSTART;TZID=Europe/Berlin:20260514T190000
DTEND;TZID=Europe/Berlin:20260514T230000
DTSTAMP:20260426T032513
CREATED:20260226T112814Z
LAST-MODIFIED:20260226T140030Z
UID:63935-1778785200-1778799600@comedyclubberlin.com
SUMMARY:Comedy\, Pizza and Shots - OPEN-MIC THURSDAY
DESCRIPTION:Find one of the longest running English speaking comedy clubs in Berlin Prenzlauer Berg! Indulge in a fantastic evening with stand-up comedy\, pizza and shots! \nIt’s Open-Mic night\, so professional and new comics give it ago to make you laugh. \nDoors open at 7 PM. You will be greeted by one of our fabulous door people who give you a little introduction to the club. Get your free shot at the bar. There is always a 2 for 1 drink special until 8 PM\, so come early and mingle with like-minded people. At around 8.15 PM vegetarian and vegan pizza from one of Berlins most popular Italian restaurants will be served at your seat. The show starts at 9 PM. Cosmic Comedy Berlin has an intermission and usually ends around 11 PM. \nHosted by: Dharmander Singh (GBR) \n★★★★★ THE ACTS ★★★★★ \nTo be announced \n★★★★★ OPENING TIMES ★★★★★ \nDoors: 19:00\nPizza: 20:15\nShow: 21:00\n2for1 on selected drinks from 19:00 until 20:00
URL:https://comedyclubberlin.com/event/comedy-pizza-and-shots-open-mic-thursday-14/
LOCATION:Cosmic Comedy Berlin – Comedyclub\, Schönhauser Allee 184\, Berlin\, 10119\, Germany
CATEGORIES:English Language,Open Mic
ATTACH;FMTTYPE=image/jpeg:https://comedyclubberlin.com/wp-content/uploads/2024/11/open-mic-banner.jpg
ORGANIZER;CN="Cosmic Comedy Berlin":MAILTO:englishcomedyberlin@gmail.com
END:VEVENT
BEGIN:VEVENT
DTSTART;TZID=Europe/Berlin:20260515T190000
DTEND;TZID=Europe/Berlin:20260515T230000
DTSTAMP:20260426T032513
CREATED:20260226T111958Z
LAST-MODIFIED:20260410T093109Z
UID:63915-1778871600-1778886000@comedyclubberlin.com
SUMMARY:Comedy\, Pizza and Shots – SHOWCASE FRIDAY
DESCRIPTION:Find one of the longest running English speaking comedy clubs in Berlin – Prenzlauer Berg. Indulge in a fantastic evening with stand-up comedy\, pizza and shots! \nComedians perform their tried and tested sets to make you laugh at the Showcase events every Friday and Saturday. \n\nDoors open at 7 PM. You will be greeted by one of our fabulous door people who give you a little introduction to the club. Get your free shot at the bar. There is always a 2 for 1 drink special until 8 PM\, so come early and mingle with like-minded people. At around 8.15 PM vegetarian and vegan pizza from one of Berlins most popular Italian restaurants will be served at your seat. The show starts at 9 PM. Cosmic Comedy Berlin has an intermission and usually ends around 11 PM. \nHost: Dharmander Singh \n\n★★★★★ THE ACTS ★★★★★ \nAnja Woot (SLO)\nTom Strissel (USA)\nTodd Stuchiner (USA)\nCarl H Dackö (SWE) \n★★★★★ OPENING TIMES ★★★★★ \nDoors: 19:00Pizza: 20:15Show: 21:002for1 drinks selection: between 19:00 and 20:00
URL:https://comedyclubberlin.com/event/comedy-pizza-and-shots-showcase-friday-11/
LOCATION:Cosmic Comedy Berlin – Comedyclub\, Schönhauser Allee 184\, Berlin\, 10119\, Germany
CATEGORIES:English Language,Showcase
ATTACH;FMTTYPE=image/jpeg:https://comedyclubberlin.com/wp-content/uploads/2026/02/Showcase-Flyer-May-15th-26.jpg
ORGANIZER;CN="Cosmic Comedy Berlin":MAILTO:englishcomedyberlin@gmail.com
END:VEVENT
BEGIN:VEVENT
DTSTART;TZID=Europe/Berlin:20260516T190000
DTEND;TZID=Europe/Berlin:20260516T230000
DTSTAMP:20260426T032513
CREATED:20260226T110813Z
LAST-MODIFIED:20260410T093244Z
UID:63896-1778958000-1778972400@comedyclubberlin.com
SUMMARY:Comedy\, Pizza and Shots – SHOWCASE SATURDAY
DESCRIPTION:Find one of the longest running English speaking comedy clubs in Berlin – Prenzlauer Berg. Indulge in a fantastic evening with stand-up comedy\, pizza and shots! \nComedians perform their tried and tested sets to make you laugh at the Showcase events every Friday and Saturday. \n\nDoors open at 7 PM. You will be greeted by one of our fabulous door people who give you a little introduction to the club. Get your free shot at the bar. There is always a 2 for 1 drink special until 8 PM\, so come early and mingle with like-minded people. At around 8.15 PM vegetarian and vegan pizza from one of Berlins most popular Italian restaurants will be served at your seat. The show starts at 9 PM. Cosmic Comedy Berlin has an intermission and usually ends around 11 PM. \nHost: Dharmander Singh \n\n★★★★★ THE ACTS ★★★★★ \nLuize Beca (LAT)\nDayne Brasher (AUS)\nTodd Stuchiner (USA)\nDom Maddio (ITA) \n★★★★★ OPENING TIMES ★★★★★ \nDoors: 19:00Pizza: 20:15Show: 21:002for1 drinks selection: between 19:00 and 20:00
URL:https://comedyclubberlin.com/event/comedy-pizza-and-shots-showcase-saturday-11/
LOCATION:Cosmic Comedy Berlin – Comedyclub\, Schönhauser Allee 184\, Berlin\, 10119\, Germany
CATEGORIES:English Language,Showcase
ATTACH;FMTTYPE=image/jpeg:https://comedyclubberlin.com/wp-content/uploads/2026/02/Showcase-Flyer-May-16th-26.jpg
ORGANIZER;CN="Cosmic Comedy Berlin":MAILTO:englishcomedyberlin@gmail.com
END:VEVENT
BEGIN:VEVENT
DTSTART;TZID=Europe/Berlin:20260521T190000
DTEND;TZID=Europe/Berlin:20260521T230000
DTSTAMP:20260426T032513
CREATED:20260226T112930Z
LAST-MODIFIED:20260226T140457Z
UID:63939-1779390000-1779404400@comedyclubberlin.com
SUMMARY:Comedy\, Pizza and Shots - OPEN-MIC THURSDAY
DESCRIPTION:Find one of the longest running English speaking comedy clubs in Berlin Prenzlauer Berg! Indulge in a fantastic evening with stand-up comedy\, pizza and shots! \nIt’s Open-Mic night\, so professional and new comics give it ago to make you laugh. \nDoors open at 7 PM. You will be greeted by one of our fabulous door people who give you a little introduction to the club. Get your free shot at the bar. There is always a 2 for 1 drink special until 8 PM\, so come early and mingle with like-minded people. At around 8.15 PM vegetarian and vegan pizza from one of Berlins most popular Italian restaurants will be served at your seat. The show starts at 9 PM. Cosmic Comedy Berlin has an intermission and usually ends around 11 PM. \nHosted by: Dharmander Singh (GBR) \n★★★★★ THE ACTS ★★★★★ \nTo be announced \n★★★★★ OPENING TIMES ★★★★★ \nDoors: 19:00\nPizza: 20:15\nShow: 21:00\n2for1 on selected drinks from 19:00 until 20:00
URL:https://comedyclubberlin.com/event/comedy-pizza-and-shots-open-mic-thursday-16/
LOCATION:Cosmic Comedy Berlin – Comedyclub\, Schönhauser Allee 184\, Berlin\, 10119\, Germany
CATEGORIES:English Language,Open Mic
ATTACH;FMTTYPE=image/jpeg:https://comedyclubberlin.com/wp-content/uploads/2024/11/open-mic-banner.jpg
ORGANIZER;CN="Cosmic Comedy Berlin":MAILTO:englishcomedyberlin@gmail.com
END:VEVENT
BEGIN:VEVENT
DTSTART;TZID=Europe/Berlin:20260522T190000
DTEND;TZID=Europe/Berlin:20260522T230000
DTSTAMP:20260426T032513
CREATED:20260226T112057Z
LAST-MODIFIED:20260410T093553Z
UID:63917-1779476400-1779490800@comedyclubberlin.com
SUMMARY:Comedy\, Pizza and Shots – SHOWCASE FRIDAY
DESCRIPTION:Find one of the longest running English speaking comedy clubs in Berlin – Prenzlauer Berg. Indulge in a fantastic evening with stand-up comedy\, pizza and shots! \nComedians perform their tried and tested sets to make you laugh at the Showcase events every Friday and Saturday. \n\nDoors open at 7 PM. You will be greeted by one of our fabulous door people who give you a little introduction to the club. Get your free shot at the bar. There is always a 2 for 1 drink special until 8 PM\, so come early and mingle with like-minded people. At around 8.15 PM vegetarian and vegan pizza from one of Berlins most popular Italian restaurants will be served at your seat. The show starts at 9 PM. Cosmic Comedy Berlin has an intermission and usually ends around 11 PM. \nHost: Dharmander Singh \n\n★★★★★ THE ACTS ★★★★★ \nDavid Adams (AUS)\nDevansh Sharma (IND)\nMaya Upchurch (POL)\nFitz Gessler (NZL) \n★★★★★ OPENING TIMES ★★★★★ \nDoors: 19:00Pizza: 20:15Show: 21:002for1 drinks selection: between 19:00 and 20:00
URL:https://comedyclubberlin.com/event/comedy-pizza-and-shots-showcase-friday-12/
LOCATION:Cosmic Comedy Berlin – Comedyclub\, Schönhauser Allee 184\, Berlin\, 10119\, Germany
CATEGORIES:English Language,Showcase
ATTACH;FMTTYPE=image/jpeg:https://comedyclubberlin.com/wp-content/uploads/2026/02/Showcase-Flyer-May-22nd-26.jpg
ORGANIZER;CN="Cosmic Comedy Berlin":MAILTO:englishcomedyberlin@gmail.com
END:VEVENT
BEGIN:VEVENT
DTSTART;TZID=Europe/Berlin:20260523T190000
DTEND;TZID=Europe/Berlin:20260523T230000
DTSTAMP:20260426T032513
CREATED:20260226T110844Z
LAST-MODIFIED:20260410T093909Z
UID:63898-1779562800-1779577200@comedyclubberlin.com
SUMMARY:Comedy\, Pizza and Shots – SHOWCASE SATURDAY
DESCRIPTION:Find one of the longest running English speaking comedy clubs in Berlin – Prenzlauer Berg. Indulge in a fantastic evening with stand-up comedy\, pizza and shots! \nComedians perform their tried and tested sets to make you laugh at the Showcase events every Friday and Saturday. \n\nDoors open at 7 PM. You will be greeted by one of our fabulous door people who give you a little introduction to the club. Get your free shot at the bar. There is always a 2 for 1 drink special until 8 PM\, so come early and mingle with like-minded people. At around 8.15 PM vegetarian and vegan pizza from one of Berlins most popular Italian restaurants will be served at your seat. The show starts at 9 PM. Cosmic Comedy Berlin has an intermission and usually ends around 11 PM. \nHost: Dharmander Singh \n\n★★★★★ THE ACTS ★★★★★ \nSepideh (IRN)\nDavid Adams (AUS)\nDinara Kerey (KAZ)\nBruno Mazzini (PER) \n★★★★★ OPENING TIMES ★★★★★ \nDoors: 19:00Pizza: 20:15Show: 21:002for1 drinks selection: between 19:00 and 20:00
URL:https://comedyclubberlin.com/event/comedy-pizza-and-shots-showcase-saturday-12/
LOCATION:Cosmic Comedy Berlin – Comedyclub\, Schönhauser Allee 184\, Berlin\, 10119\, Germany
CATEGORIES:English Language,Showcase
ATTACH;FMTTYPE=image/jpeg:https://comedyclubberlin.com/wp-content/uploads/2026/02/Showcase-Flyer-May-23rd-26.jpg
ORGANIZER;CN="Cosmic Comedy Berlin":MAILTO:englishcomedyberlin@gmail.com
END:VEVENT
BEGIN:VEVENT
DTSTART;TZID=Europe/Berlin:20260529T190000
DTEND;TZID=Europe/Berlin:20260529T230000
DTSTAMP:20260426T032513
CREATED:20260226T112155Z
LAST-MODIFIED:20260410T094346Z
UID:63920-1780081200-1780095600@comedyclubberlin.com
SUMMARY:Comedy\, Pizza and Shots – SHOWCASE FRIDAY
DESCRIPTION:Find one of the longest running English speaking comedy clubs in Berlin – Prenzlauer Berg. Indulge in a fantastic evening with stand-up comedy\, pizza and shots! \nComedians perform their tried and tested sets to make you laugh at the Showcase events every Friday and Saturday. \n\nDoors open at 7 PM. You will be greeted by one of our fabulous door people who give you a little introduction to the club. Get your free shot at the bar. There is always a 2 for 1 drink special until 8 PM\, so come early and mingle with like-minded people. At around 8.15 PM vegetarian and vegan pizza from one of Berlins most popular Italian restaurants will be served at your seat. The show starts at 9 PM. Cosmic Comedy Berlin has an intermission and usually ends around 11 PM. \nHost: Dharmander Singh \n\n★★★★★ THE ACTS ★★★★★ \nRoc Roc It (???)\nKat Nip (POL)\nAdnrej Ivanov (MKD)\nAbi Mohanty (IND) \n★★★★★ OPENING TIMES ★★★★★ \nDoors: 19:00Pizza: 20:15Show: 21:002for1 drinks selection: between 19:00 and 20:00
URL:https://comedyclubberlin.com/event/comedy-pizza-and-shots-showcase-friday-13/
LOCATION:Cosmic Comedy Berlin – Comedyclub\, Schönhauser Allee 184\, Berlin\, 10119\, Germany
CATEGORIES:English Language,Showcase
ATTACH;FMTTYPE=image/jpeg:https://comedyclubberlin.com/wp-content/uploads/2026/02/Showcase-Flyer-May-29th-26.jpg
ORGANIZER;CN="Cosmic Comedy Berlin":MAILTO:englishcomedyberlin@gmail.com
END:VEVENT
BEGIN:VEVENT
DTSTART;TZID=Europe/Berlin:20260530T190000
DTEND;TZID=Europe/Berlin:20260530T230000
DTSTAMP:20260426T032513
CREATED:20260226T110941Z
LAST-MODIFIED:20260410T095100Z
UID:63900-1780167600-1780182000@comedyclubberlin.com
SUMMARY:Comedy\, Pizza and Shots – SHOWCASE SATURDAY
DESCRIPTION:Find one of the longest running English speaking comedy clubs in Berlin – Prenzlauer Berg. Indulge in a fantastic evening with stand-up comedy\, pizza and shots! \nComedians perform their tried and tested sets to make you laugh at the Showcase events every Friday and Saturday. \n\nDoors open at 7 PM. You will be greeted by one of our fabulous door people who give you a little introduction to the club. Get your free shot at the bar. There is always a 2 for 1 drink special until 8 PM\, so come early and mingle with like-minded people. At around 8.15 PM vegetarian and vegan pizza from one of Berlins most popular Italian restaurants will be served at your seat. The show starts at 9 PM. Cosmic Comedy Berlin has an intermission and usually ends around 11 PM. \nHost: Dharmander Singh \n\n★★★★★ THE ACTS ★★★★★ \nLudwig Benecke (GER)\nDom Maddio (ITA)\nTodd Stuchiner (USA)\nKarl Pinzon Bustillo (COL) \n★★★★★ OPENING TIMES ★★★★★ \nDoors: 19:00Pizza: 20:15Show: 21:002for1 drinks selection: between 19:00 and 20:00
URL:https://comedyclubberlin.com/event/comedy-pizza-and-shots-showcase-saturday-13/
LOCATION:Cosmic Comedy Berlin – Comedyclub\, Schönhauser Allee 184\, Berlin\, 10119\, Germany
CATEGORIES:English Language,Showcase
ATTACH;FMTTYPE=image/jpeg:https://comedyclubberlin.com/wp-content/uploads/2026/02/Showcase-Flyer-May-30th-26.jpg
ORGANIZER;CN="Cosmic Comedy Berlin":MAILTO:englishcomedyberlin@gmail.com
END:VEVENT
BEGIN:VEVENT
DTSTART;TZID=Europe/Berlin:20260604T190000
DTEND;TZID=Europe/Berlin:20260604T230000
DTSTAMP:20260426T032513
CREATED:20260226T113033Z
LAST-MODIFIED:20260226T141619Z
UID:63941-1780599600-1780614000@comedyclubberlin.com
SUMMARY:Comedy\, Pizza and Shots - OPEN-MIC THURSDAY
DESCRIPTION:Find one of the longest running English speaking comedy clubs in Berlin Prenzlauer Berg! Indulge in a fantastic evening with stand-up comedy\, pizza and shots! \nIt’s Open-Mic night\, so professional and new comics give it ago to make you laugh. \nDoors open at 7 PM. You will be greeted by one of our fabulous door people who give you a little introduction to the club. Get your free shot at the bar. There is always a 2 for 1 drink special until 8 PM\, so come early and mingle with like-minded people. At around 8.15 PM vegetarian and vegan pizza from one of Berlins most popular Italian restaurants will be served at your seat. The show starts at 9 PM. Cosmic Comedy Berlin has an intermission and usually ends around 11 PM. \nHosted by: Dharmander Singh (GBR) \n★★★★★ THE ACTS ★★★★★ \nTo be announced \n★★★★★ OPENING TIMES ★★★★★ \nDoors: 19:00\nPizza: 20:15\nShow: 21:00\n2for1 on selected drinks from 19:00 until 20:00
URL:https://comedyclubberlin.com/event/comedy-pizza-and-shots-open-mic-thursday-17/
LOCATION:Cosmic Comedy Berlin – Comedyclub\, Schönhauser Allee 184\, Berlin\, 10119\, Germany
CATEGORIES:English Language,Open Mic
ATTACH;FMTTYPE=image/jpeg:https://comedyclubberlin.com/wp-content/uploads/2024/11/open-mic-banner.jpg
ORGANIZER;CN="Cosmic Comedy Berlin":MAILTO:englishcomedyberlin@gmail.com
END:VEVENT
BEGIN:VEVENT
DTSTART;TZID=Europe/Berlin:20260605T190000
DTEND;TZID=Europe/Berlin:20260605T230000
DTSTAMP:20260426T032513
CREATED:20260226T113100Z
LAST-MODIFIED:20260226T141722Z
UID:63943-1780686000-1780700400@comedyclubberlin.com
SUMMARY:Comedy\, Pizza and Shots – SHOWCASE FRIDAY
DESCRIPTION:Find one of the longest running English speaking comedy clubs in Berlin – Prenzlauer Berg. Indulge in a fantastic evening with stand-up comedy\, pizza and shots! \nComedians perform their tried and tested sets to make you laugh at the Showcase events every Friday and Saturday. \n\nDoors open at 7 PM. You will be greeted by one of our fabulous door people who give you a little introduction to the club. Get your free shot at the bar. There is always a 2 for 1 drink special until 8 PM\, so come early and mingle with like-minded people. At around 8.15 PM vegetarian and vegan pizza from one of Berlins most popular Italian restaurants will be served at your seat. The show starts at 9 PM. Cosmic Comedy Berlin has an intermission and usually ends around 11 PM. \nHost: Dharmander Singh \n\n★★★★★ THE ACTS ★★★★★ \nTo be announced \n★★★★★ OPENING TIMES ★★★★★ \nDoors: 19:00Pizza: 20:15Show: 21:002for1 drinks selection: between 19:00 and 20:00
URL:https://comedyclubberlin.com/event/comedy-pizza-and-shots-showcase-friday-14/
LOCATION:Cosmic Comedy Berlin – Comedyclub\, Schönhauser Allee 184\, Berlin\, 10119\, Germany
CATEGORIES:English Language,Showcase
ATTACH;FMTTYPE=image/jpeg:https://comedyclubberlin.com/wp-content/uploads/2022/07/cc-SHOWCASE.jpg
ORGANIZER;CN="Cosmic Comedy Berlin":MAILTO:englishcomedyberlin@gmail.com
END:VEVENT
BEGIN:VEVENT
DTSTART;TZID=Europe/Berlin:20260606T190000
DTEND;TZID=Europe/Berlin:20260606T230000
DTSTAMP:20260426T032513
CREATED:20260226T113132Z
LAST-MODIFIED:20260226T141823Z
UID:63945-1780772400-1780786800@comedyclubberlin.com
SUMMARY:Comedy\, Pizza and Shots – SHOWCASE SATURDAY
DESCRIPTION:Find one of the longest running English speaking comedy clubs in Berlin – Prenzlauer Berg. Indulge in a fantastic evening with stand-up comedy\, pizza and shots! \nComedians perform their tried and tested sets to make you laugh at the Showcase events every Friday and Saturday. \n\nDoors open at 7 PM. You will be greeted by one of our fabulous door people who give you a little introduction to the club. Get your free shot at the bar. There is always a 2 for 1 drink special until 8 PM\, so come early and mingle with like-minded people. At around 8.15 PM vegetarian and vegan pizza from one of Berlins most popular Italian restaurants will be served at your seat. The show starts at 9 PM. Cosmic Comedy Berlin has an intermission and usually ends around 11 PM. \nHost: Dharmander Singh \n\n★★★★★ THE ACTS ★★★★★ \nTo be announced \n★★★★★ OPENING TIMES ★★★★★ \nDoors: 19:00Pizza: 20:15Show: 21:002for1 drinks selection: between 19:00 and 20:00
URL:https://comedyclubberlin.com/event/comedy-pizza-and-shots-showcase-saturday-14/
LOCATION:Cosmic Comedy Berlin – Comedyclub\, Schönhauser Allee 184\, Berlin\, 10119\, Germany
CATEGORIES:English Language,Showcase
ATTACH;FMTTYPE=image/jpeg:https://comedyclubberlin.com/wp-content/uploads/2024/11/showcase-banner.jpg
ORGANIZER;CN="Cosmic Comedy Berlin":MAILTO:englishcomedyberlin@gmail.com
END:VEVENT
END:VCALENDAR