BEGIN:VCALENDAR
VERSION:2.0
PRODID:-//Cosmic Comedy Berlin - International Comedy Club - ECPv6.15.20//NONSGML v1.0//EN
CALSCALE:GREGORIAN
METHOD:PUBLISH
X-ORIGINAL-URL:https://comedyclubberlin.com
X-WR-CALDESC:Events for Cosmic Comedy Berlin - International Comedy Club
REFRESH-INTERVAL;VALUE=DURATION:PT1H
X-Robots-Tag:noindex
X-PUBLISHED-TTL:PT1H
BEGIN:VTIMEZONE
TZID:Europe/Berlin
BEGIN:DAYLIGHT
TZOFFSETFROM:+0100
TZOFFSETTO:+0200
TZNAME:CEST
DTSTART:20250330T010000
END:DAYLIGHT
BEGIN:STANDARD
TZOFFSETFROM:+0200
TZOFFSETTO:+0100
TZNAME:CET
DTSTART:20251026T010000
END:STANDARD
BEGIN:DAYLIGHT
TZOFFSETFROM:+0100
TZOFFSETTO:+0200
TZNAME:CEST
DTSTART:20260329T010000
END:DAYLIGHT
BEGIN:STANDARD
TZOFFSETFROM:+0200
TZOFFSETTO:+0100
TZNAME:CET
DTSTART:20261025T010000
END:STANDARD
BEGIN:DAYLIGHT
TZOFFSETFROM:+0100
TZOFFSETTO:+0200
TZNAME:CEST
DTSTART:20270328T010000
END:DAYLIGHT
BEGIN:STANDARD
TZOFFSETFROM:+0200
TZOFFSETTO:+0100
TZNAME:CET
DTSTART:20271031T010000
END:STANDARD
END:VTIMEZONE
BEGIN:VEVENT
DTSTART;TZID=Europe/Berlin:20260910T200000
DTEND;TZID=Europe/Berlin:20260910T220000
DTSTAMP:20260426T061702
CREATED:20260418T070641Z
LAST-MODIFIED:20260418T070824Z
UID:64486-1789070400-1789077600@comedyclubberlin.com
SUMMARY:The Hilarious Deep Amazing Berlin Comedy Show with Gilli Apter
DESCRIPTION:TICKETS \nGilli Apter is one of South Africa’s top comedians\, featured on the Netflix show Only Jokes Allowed. \nHer confident\, unique style and observations about life will make you laugh too hard to realise you’re having a nervous breakdown. \nThis is a show about everything that’s on your mind – relationships\, AI\, ADHD\, kids vs not-kids\, the past\, your future\, all our decisions – good and bad\, the mad things going on in your specific city\, Gilli’s identity\, politics\, the politics of Gilli’s identity and who knows what else! Watch Gilli weave whatever and whoever is in the room\, together with her personal story\, to create a unique experience each and every night. \nSo get tickets\, get off your phone and get some friends together for a hilarious\, deep\, amazing night of comedy in your city. \nThe Hilarious Deep Amazing Comedy Show has been performed to repeatedly sold out rooms in London\, Amsterdam\, Zurich\, Frankfurt\, Luxembourg\, Copenhagen\, Johannesburg\, Stockholm\, Madrid and many more. \nGilli’s Netflix Special: https://bit.ly/Netflix_GilliApter \nThis is a 16+ event / strictly no children. \nAll sales are final. Purchase will be refunded in the event of cancellation or rescheduling. \nThe show may include appearances from special guest comedians
URL:https://comedyclubberlin.com/event/the-hilarious-deep-amazing-berlin-comedy-show-with-gilli-apter/
LOCATION:Cosmic Comedy Berlin – Comedyclub\, Schönhauser Allee 184\, Berlin\, 10119\, Germany
ATTACH;FMTTYPE=image/jpeg:https://comedyclubberlin.com/wp-content/uploads/2026/04/cff6fbpigkcpusw06moy-1.jpg
ORGANIZER;CN="The Hilarious Deep Amazing Comedy":MAILTO:gilliaptercomedy@gmail.com
END:VEVENT
END:VCALENDAR