BEGIN:VCALENDAR
VERSION:2.0
PRODID:-//Cosmic Comedy Berlin - International Comedy Club - ECPv6.15.20//NONSGML v1.0//EN
CALSCALE:GREGORIAN
METHOD:PUBLISH
X-WR-CALNAME:Cosmic Comedy Berlin - International Comedy Club
X-ORIGINAL-URL:https://comedyclubberlin.com
X-WR-CALDESC:Events for Cosmic Comedy Berlin - International Comedy Club
REFRESH-INTERVAL;VALUE=DURATION:PT1H
X-Robots-Tag:noindex
X-PUBLISHED-TTL:PT1H
BEGIN:VTIMEZONE
TZID:Europe/Berlin
BEGIN:DAYLIGHT
TZOFFSETFROM:+0100
TZOFFSETTO:+0200
TZNAME:CEST
DTSTART:20250330T010000
END:DAYLIGHT
BEGIN:STANDARD
TZOFFSETFROM:+0200
TZOFFSETTO:+0100
TZNAME:CET
DTSTART:20251026T010000
END:STANDARD
BEGIN:DAYLIGHT
TZOFFSETFROM:+0100
TZOFFSETTO:+0200
TZNAME:CEST
DTSTART:20260329T010000
END:DAYLIGHT
BEGIN:STANDARD
TZOFFSETFROM:+0200
TZOFFSETTO:+0100
TZNAME:CET
DTSTART:20261025T010000
END:STANDARD
BEGIN:DAYLIGHT
TZOFFSETFROM:+0100
TZOFFSETTO:+0200
TZNAME:CEST
DTSTART:20270328T010000
END:DAYLIGHT
BEGIN:STANDARD
TZOFFSETFROM:+0200
TZOFFSETTO:+0100
TZNAME:CET
DTSTART:20271031T010000
END:STANDARD
END:VTIMEZONE
BEGIN:VEVENT
DTSTART;TZID=Europe/Berlin:20260305T190000
DTEND;TZID=Europe/Berlin:20260305T230000
DTSTAMP:20260426T045416
CREATED:20260213T122235Z
LAST-MODIFIED:20260304T095428Z
UID:63572-1772737200-1772751600@comedyclubberlin.com
SUMMARY:Comedy\, Pizza and Shots - OPEN-MIC THURSDAY
DESCRIPTION:Find one of the longest running English speaking comedy clubs in Berlin Prenzlauer Berg! Indulge in a fantastic evening with stand-up comedy\, pizza and shots! \nIt’s Open-Mic night\, so professional and new comics give it ago to make you laugh. \nDoors open at 7 PM. You will be greeted by one of our fabulous door people who give you a little introduction to the club. Get your free shot at the bar. There is always a 2 for 1 drink special until 8 PM\, so come early and mingle with like-minded people. At around 8.15 PM vegetarian and vegan pizza from one of Berlins most popular Italian restaurants will be served at your seat. The show starts at 9 PM. Cosmic Comedy Berlin has an intermission and usually ends around 11 PM. \nHosted by: Dharmander Singh (GBR) \n★★★★★ THE ACTS ★★★★★ \nSee Event Poster \n★★★★★ OPENING TIMES ★★★★★ \nDoors: 19:00\nPizza: 20:15\nShow: 21:00\n2for1 on selected drinks from 19:00 until 20:00
URL:https://comedyclubberlin.com/event/comedy-pizza-and-shots-open-mic-thursday-2/
LOCATION:Cosmic Comedy Berlin – Comedyclub\, Schönhauser Allee 184\, Berlin\, 10119\, Germany
CATEGORIES:English Language,Open Mic
ATTACH;FMTTYPE=image/jpeg:https://comedyclubberlin.com/wp-content/uploads/2026/02/Flyer-Open-Mic-March-5th-26.jpg
END:VEVENT
BEGIN:VEVENT
DTSTART;TZID=Europe/Berlin:20260306T190000
DTEND;TZID=Europe/Berlin:20260306T230000
DTSTAMP:20260426T045416
CREATED:20260213T121233Z
LAST-MODIFIED:20260216T113022Z
UID:63561-1772823600-1772838000@comedyclubberlin.com
SUMMARY:Comedy\, Pizza and Shots – SHOWCASE FRIDAY
DESCRIPTION:This show is in English! \nFind one of the longest running English speaking comedy clubs in Berlin – Prenzlauer Berg. Indulge in a fantastic evening with stand-up comedy\, pizza and shots! \nComedians perform their tried and tested sets to make you laugh at the Showcase events every Friday and Saturday. \n\nDoors open at 7 PM. You will be greeted by one of our fabulous door people who give you a little introduction to the club. Get your free shot at the bar. There is always a 2 for 1 drink special until 8 PM\, so come early and mingle with like-minded people. At around 8.15 PM vegetarian and vegan pizza from one of Berlins most popular Italian restaurants will be served at your seat. The show starts at 9 PM. Cosmic Comedy Berlin has an intermission and usually ends around 11 PM. \nHost: Dharmander Singh \n\n★★★★★ THE ACTS ★★★★★ \nEnim Afandi (AZE)Kat Nip (POL)Luize Beca (LAT)David Adams (AUS) \n★★★★★ OPENING TIMES ★★★★★ \nDoors: 19:00Pizza: 20:15Show: 21:002for1 drinks selection: between 19:00 and 20:00
URL:https://comedyclubberlin.com/event/comedy-pizza-and-shots-showcase-friday/
LOCATION:Cosmic Comedy Berlin – Comedyclub\, Schönhauser Allee 184\, Berlin\, 10119\, Germany
CATEGORIES:English Language,Showcase
ATTACH;FMTTYPE=image/jpeg:https://comedyclubberlin.com/wp-content/uploads/2026/02/Showcase-Flyer-March-6th-26.jpg
ORGANIZER;CN="Cosmic Comedy Berlin":MAILTO:englishcomedyberlin@gmail.com
END:VEVENT
BEGIN:VEVENT
DTSTART;TZID=Europe/Berlin:20260307T190000
DTEND;TZID=Europe/Berlin:20260307T230000
DTSTAMP:20260426T045416
CREATED:20260213T120514Z
LAST-MODIFIED:20260216T112859Z
UID:63543-1772910000-1772924400@comedyclubberlin.com
SUMMARY:Comedy\, Pizza and Shots – SHOWCASE SATURDAY
DESCRIPTION:Find one of the longest running English speaking comedy clubs in Berlin – Prenzlauer Berg. Indulge in a fantastic evening with stand-up comedy\, pizza and shots! \nComedians perform their tried and tested sets to make you laugh at the Showcase events every Friday and Saturday. \n\nDoors open at 7 PM. You will be greeted by one of our fabulous door people who give you a little introduction to the club. Get your free shot at the bar. There is always a 2 for 1 drink special until 8 PM\, so come early and mingle with like-minded people. At around 8.15 PM vegetarian and vegan pizza from one of Berlins most popular Italian restaurants will be served at your seat. The show starts at 9 PM. Cosmic Comedy Berlin has an intermission and usually ends around 11 PM. \nHost: Dharmander Singh \n\n★★★★★ THE ACTS ★★★★★ \nMaya Upchurch (POL)Devansh Sharma (IND)Karl Pinzon Bustillo (COL)Roc Roc It (???) \n★★★★★ OPENING TIMES ★★★★★ \nDoors: 19:00Pizza: 20:15Show: 21:002for1 drinks selection: between 19:00 and 20:00
URL:https://comedyclubberlin.com/event/comedy-pizza-and-shots-showcase-saturday/
LOCATION:Cosmic Comedy Berlin – Comedyclub\, Schönhauser Allee 184\, Berlin\, 10119\, Germany
CATEGORIES:English Language,Showcase
ATTACH;FMTTYPE=image/jpeg:https://comedyclubberlin.com/wp-content/uploads/2026/02/Showcase-Flyer-March-7th-26.jpg
ORGANIZER;CN="Cosmic Comedy Berlin":MAILTO:englishcomedyberlin@gmail.com
END:VEVENT
BEGIN:VEVENT
DTSTART;TZID=Europe/Berlin:20260312T190000
DTEND;TZID=Europe/Berlin:20260312T230000
DTSTAMP:20260426T045416
CREATED:20260213T122507Z
LAST-MODIFIED:20260304T101109Z
UID:63574-1773342000-1773356400@comedyclubberlin.com
SUMMARY:Comedy\, Pizza and Shots - OPEN-MIC THURSDAY
DESCRIPTION:Find one of the longest running English speaking comedy clubs in Berlin Prenzlauer Berg! Indulge in a fantastic evening with stand-up comedy\, pizza and shots! \nIt’s Open-Mic night\, so professional and new comics give it ago to make you laugh. \nDoors open at 7 PM. You will be greeted by one of our fabulous door people who give you a little introduction to the club. Get your free shot at the bar. There is always a 2 for 1 drink special until 8 PM\, so come early and mingle with like-minded people. At around 8.15 PM vegetarian and vegan pizza from one of Berlins most popular Italian restaurants will be served at your seat. The show starts at 9 PM. Cosmic Comedy Berlin has an intermission and usually ends around 11 PM. \nHosted by: Dharmander Singh (GBR) \n★★★★★ THE ACTS ★★★★★ \nSee Event Poster \n★★★★★ OPENING TIMES ★★★★★ \nDoors: 19:00\nPizza: 20:15\nShow: 21:00\n2for1 on selected drinks from 19:00 until 20:00
URL:https://comedyclubberlin.com/event/comedy-pizza-and-shots-open-mic-thursday-9/
LOCATION:Cosmic Comedy Berlin – Comedyclub\, Schönhauser Allee 184\, Berlin\, 10119\, Germany
CATEGORIES:English Language,Open Mic
ATTACH;FMTTYPE=image/jpeg:https://comedyclubberlin.com/wp-content/uploads/2026/02/Flyer-Open-Mic-March-12th-26.jpg
END:VEVENT
BEGIN:VEVENT
DTSTART;TZID=Europe/Berlin:20260313T190000
DTEND;TZID=Europe/Berlin:20260313T230000
DTSTAMP:20260426T045416
CREATED:20260213T121343Z
LAST-MODIFIED:20260216T112706Z
UID:63563-1773428400-1773442800@comedyclubberlin.com
SUMMARY:Comedy\, Pizza and Shots – SHOWCASE FRIDAY
DESCRIPTION:This show is in English! \nFind one of the longest running English speaking comedy clubs in Berlin – Prenzlauer Berg. Indulge in a fantastic evening with stand-up comedy\, pizza and shots! \nComedians perform their tried and tested sets to make you laugh at the Showcase events every Friday and Saturday. \n\nDoors open at 7 PM. You will be greeted by one of our fabulous door people who give you a little introduction to the club. Get your free shot at the bar. There is always a 2 for 1 drink special until 8 PM\, so come early and mingle with like-minded people. At around 8.15 PM vegetarian and vegan pizza from one of Berlins most popular Italian restaurants will be served at your seat. The show starts at 9 PM. Cosmic Comedy Berlin has an intermission and usually ends around 11 PM. \nHost: Dharmander Singh \n\n★★★★★ THE ACTS ★★★★★ \nCarl H Dackö (SWE)Ludwig Benecke (GER)Todd Stuchiner (USA)Bruno Mazzini (PER)Nazilta (BEL) \n★★★★★ OPENING TIMES ★★★★★ \nDoors: 19:00Pizza: 20:15Show: 21:002for1 drinks selection: between 19:00 and 20:00
URL:https://comedyclubberlin.com/event/comedy-pizza-and-shots-showcase-friday-2/
LOCATION:Cosmic Comedy Berlin – Comedyclub\, Schönhauser Allee 184\, Berlin\, 10119\, Germany
CATEGORIES:English Language,Showcase
ATTACH;FMTTYPE=image/jpeg:https://comedyclubberlin.com/wp-content/uploads/2026/02/Showcase-Flyer-March-13th-26.jpg
ORGANIZER;CN="Cosmic Comedy Berlin":MAILTO:englishcomedyberlin@gmail.com
END:VEVENT
BEGIN:VEVENT
DTSTART;TZID=Europe/Berlin:20260314T190000
DTEND;TZID=Europe/Berlin:20260314T230000
DTSTAMP:20260426T045416
CREATED:20260213T120840Z
LAST-MODIFIED:20260216T112544Z
UID:63555-1773514800-1773529200@comedyclubberlin.com
SUMMARY:Comedy\, Pizza and Shots – SHOWCASE SATURDAY
DESCRIPTION:This show is in English! \nFind one of the longest running English speaking comedy clubs in Berlin – Prenzlauer Berg. Indulge in a fantastic evening with stand-up comedy\, pizza and shots! \nComedians perform their tried and tested sets to make you laugh at the Showcase events every Friday and Saturday. \n\nDoors open at 7 PM. You will be greeted by one of our fabulous door people who give you a little introduction to the club. Get your free shot at the bar. There is always a 2 for 1 drink special until 8 PM\, so come early and mingle with like-minded people. At around 8.15 PM vegetarian and vegan pizza from one of Berlins most popular Italian restaurants will be served at your seat. The show starts at 9 PM. Cosmic Comedy Berlin has an intermission and usually ends around 11 PM. \nHost: Dharmander Singh \n\n★★★★★ THE ACTS ★★★★★ \nAbi Mohanty (IND)David Adams (AUS)Stephanie DePrez (USA)Maya Upchurch (POL) \n★★★★★ OPENING TIMES ★★★★★ \nDoors: 19:00Pizza: 20:15Show: 21:002for1 drinks selection: between 19:00 and 20:00
URL:https://comedyclubberlin.com/event/comedy-pizza-and-shots-showcase-saturday-2/
LOCATION:Cosmic Comedy Berlin – Comedyclub\, Schönhauser Allee 184\, Berlin\, 10119\, Germany
CATEGORIES:English Language,Showcase
ATTACH;FMTTYPE=image/jpeg:https://comedyclubberlin.com/wp-content/uploads/2026/02/Showcase-Flyer-March-14th-26.jpg
ORGANIZER;CN="Cosmic Comedy Berlin":MAILTO:englishcomedyberlin@gmail.com
END:VEVENT
BEGIN:VEVENT
DTSTART;TZID=Europe/Berlin:20260319T190000
DTEND;TZID=Europe/Berlin:20260319T230000
DTSTAMP:20260426T045416
CREATED:20260213T123422Z
LAST-MODIFIED:20260304T101149Z
UID:63579-1773946800-1773961200@comedyclubberlin.com
SUMMARY:Comedy\, Pizza and Shots - OPEN-MIC THURSDAY
DESCRIPTION:Find one of the longest running English speaking comedy clubs in Berlin Prenzlauer Berg! Indulge in a fantastic evening with stand-up comedy\, pizza and shots! \nIt’s Open-Mic night\, so professional and new comics give it ago to make you laugh. \nDoors open at 7 PM. You will be greeted by one of our fabulous door people who give you a little introduction to the club. Get your free shot at the bar. There is always a 2 for 1 drink special until 8 PM\, so come early and mingle with like-minded people. At around 8.15 PM vegetarian and vegan pizza from one of Berlins most popular Italian restaurants will be served at your seat. The show starts at 9 PM. Cosmic Comedy Berlin has an intermission and usually ends around 11 PM. \nHosted by: Dharmander Singh (GBR) \n★★★★★ THE ACTS ★★★★★ \nSee Event Poster \n★★★★★ OPENING TIMES ★★★★★ \nDoors: 19:00\nPizza: 20:15\nShow: 21:00\n2for1 on selected drinks from 19:00 until 20:00
URL:https://comedyclubberlin.com/event/comedy-pizza-and-shots-open-mic-thursday-11/
LOCATION:Cosmic Comedy Berlin – Comedyclub\, Schönhauser Allee 184\, Berlin\, 10119\, Germany
CATEGORIES:English Language,Open Mic
ATTACH;FMTTYPE=image/jpeg:https://comedyclubberlin.com/wp-content/uploads/2026/02/Flyer-Open-Mic-March-19th-26.jpg
END:VEVENT
BEGIN:VEVENT
DTSTART;TZID=Europe/Berlin:20260320T190000
DTEND;TZID=Europe/Berlin:20260320T230000
DTSTAMP:20260426T045416
CREATED:20260213T121426Z
LAST-MODIFIED:20260216T111918Z
UID:63565-1774033200-1774047600@comedyclubberlin.com
SUMMARY:Comedy\, Pizza and Shots – SHOWCASE FRIDAY
DESCRIPTION:This show is in English! \nFind one of the longest running English speaking comedy clubs in Berlin – Prenzlauer Berg. Indulge in a fantastic evening with stand-up comedy\, pizza and shots! \nComedians perform their tried and tested sets to make you laugh at the Showcase events every Friday and Saturday. \n\nDoors open at 7 PM. You will be greeted by one of our fabulous door people who give you a little introduction to the club. Get your free shot at the bar. There is always a 2 for 1 drink special until 8 PM\, so come early and mingle with like-minded people. At around 8.15 PM vegetarian and vegan pizza from one of Berlins most popular Italian restaurants will be served at your seat. The show starts at 9 PM. Cosmic Comedy Berlin has an intermission and usually ends around 11 PM. \nHost: Dharmander Singh \n\n★★★★★ THE ACTS ★★★★★ \nSepideh (IRN)Andrej Ivanov (MKD)Stephanie DePrez (USA)Tomasso Ferrari (ITA) \n★★★★★ OPENING TIMES ★★★★★ \nDoors: 19:00Pizza: 20:15Show: 21:002for1 drinks selection: between 19:00 and 20:00
URL:https://comedyclubberlin.com/event/comedy-pizza-and-shots-showcase-friday-3/
LOCATION:Cosmic Comedy Berlin – Comedyclub\, Schönhauser Allee 184\, Berlin\, 10119\, Germany
CATEGORIES:English Language,Showcase
ATTACH;FMTTYPE=image/jpeg:https://comedyclubberlin.com/wp-content/uploads/2026/02/Showcase-Flyer-March-20th-26.jpg
ORGANIZER;CN="Cosmic Comedy Berlin":MAILTO:englishcomedyberlin@gmail.com
END:VEVENT
BEGIN:VEVENT
DTSTART;TZID=Europe/Berlin:20260321T190000
DTEND;TZID=Europe/Berlin:20260321T230000
DTSTAMP:20260426T045416
CREATED:20260213T121043Z
LAST-MODIFIED:20260216T112110Z
UID:63557-1774119600-1774134000@comedyclubberlin.com
SUMMARY:Comedy\, Pizza and Shots – SHOWCASE SATURDAY
DESCRIPTION:This show is in English! \nFind one of the longest running English speaking comedy clubs in Berlin – Prenzlauer Berg. Indulge in a fantastic evening with stand-up comedy\, pizza and shots! \nComedians perform their tried and tested sets to make you laugh at the Showcase events every Friday and Saturday. \n\nDoors open at 7 PM. You will be greeted by one of our fabulous door people who give you a little introduction to the club. Get your free shot at the bar. There is always a 2 for 1 drink special until 8 PM\, so come early and mingle with like-minded people. At around 8.15 PM vegetarian and vegan pizza from one of Berlins most popular Italian restaurants will be served at your seat. The show starts at 9 PM. Cosmic Comedy Berlin has an intermission and usually ends around 11 PM. \nHost: Dharmander Singh \n\n★★★★★ THE ACTS ★★★★★ \nAnja Woot (SLO)Ayla Merino (MEX)Roc Roc It (???)Dayne Brasher (AUS) \n★★★★★ OPENING TIMES ★★★★★ \nDoors: 19:00Pizza: 20:15Show: 21:002for1 drinks selection: between 19:00 and 20:00
URL:https://comedyclubberlin.com/event/comedy-pizza-and-shots-showcase-saturday-3/
LOCATION:Cosmic Comedy Berlin – Comedyclub\, Schönhauser Allee 184\, Berlin\, 10119\, Germany
CATEGORIES:English Language,Showcase
ATTACH;FMTTYPE=image/jpeg:https://comedyclubberlin.com/wp-content/uploads/2026/02/Showcase-Flyer-March-21st-26.jpg
ORGANIZER;CN="Cosmic Comedy Berlin":MAILTO:englishcomedyberlin@gmail.com
END:VEVENT
BEGIN:VEVENT
DTSTART;TZID=Europe/Berlin:20260326T190000
DTEND;TZID=Europe/Berlin:20260326T230000
DTSTAMP:20260426T045416
CREATED:20260213T122858Z
LAST-MODIFIED:20260304T101227Z
UID:63577-1774551600-1774566000@comedyclubberlin.com
SUMMARY:Comedy\, Pizza and Shots - OPEN-MIC THURSDAY
DESCRIPTION:Find one of the longest running English speaking comedy clubs in Berlin Prenzlauer Berg! Indulge in a fantastic evening with stand-up comedy\, pizza and shots! \nIt’s Open-Mic night\, so professional and new comics give it ago to make you laugh. \nDoors open at 7 PM. You will be greeted by one of our fabulous door people who give you a little introduction to the club. Get your free shot at the bar. There is always a 2 for 1 drink special until 8 PM\, so come early and mingle with like-minded people. At around 8.15 PM vegetarian and vegan pizza from one of Berlins most popular Italian restaurants will be served at your seat. The show starts at 9 PM. Cosmic Comedy Berlin has an intermission and usually ends around 11 PM. \nHosted by: Dharmander Singh (GBR) \n★★★★★ THE ACTS ★★★★★ \nSee Event Poster \n★★★★★ OPENING TIMES ★★★★★ \nDoors: 19:00\nPizza: 20:15\nShow: 21:00\n2for1 on selected drinks from 19:00 until 20:00
URL:https://comedyclubberlin.com/event/comedy-pizza-and-shots-open-mic-thursday-10/
LOCATION:Cosmic Comedy Berlin – Comedyclub\, Schönhauser Allee 184\, Berlin\, 10119\, Germany
CATEGORIES:English Language,Open Mic
ATTACH;FMTTYPE=image/jpeg:https://comedyclubberlin.com/wp-content/uploads/2026/02/Flyer-Open-Mic-March-26th-26.jpg
ORGANIZER;CN="Cosmic Comedy Berlin":MAILTO:englishcomedyberlin@gmail.com
END:VEVENT
BEGIN:VEVENT
DTSTART;TZID=Europe/Berlin:20260327T190000
DTEND;TZID=Europe/Berlin:20260327T230000
DTSTAMP:20260426T045416
CREATED:20260213T121538Z
LAST-MODIFIED:20260216T112242Z
UID:63567-1774638000-1774652400@comedyclubberlin.com
SUMMARY:Comedy\, Pizza and Shots – SHOWCASE FRIDAY
DESCRIPTION:This show is in English! \nFind one of the longest running English speaking comedy clubs in Berlin – Prenzlauer Berg. Indulge in a fantastic evening with stand-up comedy\, pizza and shots! \nComedians perform their tried and tested sets to make you laugh at the Showcase events every Friday and Saturday. \n\nDoors open at 7 PM. You will be greeted by one of our fabulous door people who give you a little introduction to the club. Get your free shot at the bar. There is always a 2 for 1 drink special until 8 PM\, so come early and mingle with like-minded people. At around 8.15 PM vegetarian and vegan pizza from one of Berlins most popular Italian restaurants will be served at your seat. The show starts at 9 PM. Cosmic Comedy Berlin has an intermission and usually ends around 11 PM. \nHost: Dharmander Singh \n\n★★★★★ THE ACTS ★★★★★ \nDom Maddio (ITA)Willy (NZL)Todd Stuchiner (USA)Sepideh (IRN) \n★★★★★ OPENING TIMES ★★★★★ \nDoors: 19:00Pizza: 20:15Show: 21:002for1 drinks selection: between 19:00 and 20:00
URL:https://comedyclubberlin.com/event/comedy-pizza-and-shots-showcase-friday-4/
LOCATION:Cosmic Comedy Berlin – Comedyclub\, Schönhauser Allee 184\, Berlin\, 10119\, Germany
CATEGORIES:English Language,Showcase
ATTACH;FMTTYPE=image/jpeg:https://comedyclubberlin.com/wp-content/uploads/2026/02/Showcase-Flyer-March-27th-26.jpg
ORGANIZER;CN="Cosmic Comedy Berlin":MAILTO:englishcomedyberlin@gmail.com
END:VEVENT
BEGIN:VEVENT
DTSTART;TZID=Europe/Berlin:20260328T190000
DTEND;TZID=Europe/Berlin:20260328T230000
DTSTAMP:20260426T045416
CREATED:20260213T121123Z
LAST-MODIFIED:20260216T112343Z
UID:63559-1774724400-1774738800@comedyclubberlin.com
SUMMARY:Comedy\, Pizza and Shots – SHOWCASE SATURDAY
DESCRIPTION:This show is in English! \nFind one of the longest running English speaking comedy clubs in Berlin – Prenzlauer Berg. Indulge in a fantastic evening with stand-up comedy\, pizza and shots! \nComedians perform their tried and tested sets to make you laugh at the Showcase events every Friday and Saturday. \n\nDoors open at 7 PM. You will be greeted by one of our fabulous door people who give you a little introduction to the club. Get your free shot at the bar. There is always a 2 for 1 drink special until 8 PM\, so come early and mingle with like-minded people. At around 8.15 PM vegetarian and vegan pizza from one of Berlins most popular Italian restaurants will be served at your seat. The show starts at 9 PM. Cosmic Comedy Berlin has an intermission and usually ends around 11 PM. \nHost: Dharmander Singh \n\n★★★★★ THE ACTS ★★★★★ \nStephanie DePrez (USA)Dom Maddio (ITA)Todd Stuchiner (USA)Ludwig Benecke (GER) \n★★★★★ OPENING TIMES ★★★★★ \nDoors: 19:00Pizza: 20:15Show: 21:002for1 drinks selection: between 19:00 and 20:00
URL:https://comedyclubberlin.com/event/comedy-pizza-and-shots-showcase-saturday-4/
LOCATION:Cosmic Comedy Berlin – Comedyclub\, Schönhauser Allee 184\, Berlin\, 10119\, Germany
CATEGORIES:English Language,Showcase
ATTACH;FMTTYPE=image/jpeg:https://comedyclubberlin.com/wp-content/uploads/2026/02/Showcase-Flyer-March-28th-26.jpg
ORGANIZER;CN="Cosmic Comedy Berlin":MAILTO:englishcomedyberlin@gmail.com
END:VEVENT
END:VCALENDAR