BEGIN:VCALENDAR
VERSION:2.0
PRODID:-//Cosmic Comedy Berlin - International Comedy Club - ECPv6.15.20//NONSGML v1.0//EN
CALSCALE:GREGORIAN
METHOD:PUBLISH
X-ORIGINAL-URL:https://comedyclubberlin.com
X-WR-CALDESC:Events for Cosmic Comedy Berlin - International Comedy Club
REFRESH-INTERVAL;VALUE=DURATION:PT1H
X-Robots-Tag:noindex
X-PUBLISHED-TTL:PT1H
BEGIN:VTIMEZONE
TZID:Europe/Berlin
BEGIN:DAYLIGHT
TZOFFSETFROM:+0100
TZOFFSETTO:+0200
TZNAME:CEST
DTSTART:20250330T010000
END:DAYLIGHT
BEGIN:STANDARD
TZOFFSETFROM:+0200
TZOFFSETTO:+0100
TZNAME:CET
DTSTART:20251026T010000
END:STANDARD
BEGIN:DAYLIGHT
TZOFFSETFROM:+0100
TZOFFSETTO:+0200
TZNAME:CEST
DTSTART:20260329T010000
END:DAYLIGHT
BEGIN:STANDARD
TZOFFSETFROM:+0200
TZOFFSETTO:+0100
TZNAME:CET
DTSTART:20261025T010000
END:STANDARD
BEGIN:DAYLIGHT
TZOFFSETFROM:+0100
TZOFFSETTO:+0200
TZNAME:CEST
DTSTART:20270328T010000
END:DAYLIGHT
BEGIN:STANDARD
TZOFFSETFROM:+0200
TZOFFSETTO:+0100
TZNAME:CET
DTSTART:20271031T010000
END:STANDARD
END:VTIMEZONE
BEGIN:VEVENT
DTSTART;TZID=Europe/Berlin:20260429T200000
DTEND;TZID=Europe/Berlin:20260429T223000
DTSTAMP:20260426T033409
CREATED:20260304T102759Z
LAST-MODIFIED:20260304T102759Z
UID:64063-1777492800-1777501800@comedyclubberlin.com
SUMMARY:Stef Dag - Slavic-American Princess Tour
DESCRIPTION:Stef Dag is a Brooklyn based comedian\, writer\, and actor. She hosts the viral digital dating show\, “Hot and Single\,” in which she probes single people on their dating habits in an attempt to answer the age-old question: Are you the problem? Previously\, she wrote & directed digital videos for Vogue\, Glamour\, and Vanity Fair\, that featured Bill Hader\, Michael Che\, Colin Jost\, Jennifer Lawrence and more. She was a 2022 New York Comedy Festival “Creator to Watch\,” and has been featured in Betches\, the NY Post\, Daily Mail\, AOL\, Huffington Post\, and more. \n  \nTickets: Tickets für Stef Dag @ Cosmic Comedy Club | Berlin | Mi\, 29. Apr. | ab 27\,30 €
URL:https://comedyclubberlin.com/event/stef-dag-slavic-american-princess-tour/
LOCATION:Cosmic Comedy Berlin – Comedyclub\, Schönhauser Allee 184\, Berlin\, 10119\, Germany
CATEGORIES:Comedy Special,English Language
ATTACH;FMTTYPE=image/jpeg:https://comedyclubberlin.com/wp-content/uploads/2026/03/2510_C_L_StefDag-1024x576-1.jpg
END:VEVENT
END:VCALENDAR